BEGIN:VCALENDAR
VERSION:2.0
PRODID:-//Stadtfeuerwehr Sehnde - ECPv6.15.17.1//NONSGML v1.0//EN
CALSCALE:GREGORIAN
METHOD:PUBLISH
X-WR-CALNAME:Stadtfeuerwehr Sehnde
X-ORIGINAL-URL:https://stadtfeuerwehr-sehnde.de
X-WR-CALDESC:Veranstaltungen für Stadtfeuerwehr Sehnde
REFRESH-INTERVAL;VALUE=DURATION:PT1H
X-Robots-Tag:noindex
X-PUBLISHED-TTL:PT1H
BEGIN:VTIMEZONE
TZID:Europe/Berlin
BEGIN:DAYLIGHT
TZOFFSETFROM:+0100
TZOFFSETTO:+0200
TZNAME:CEST
DTSTART:20240331T010000
END:DAYLIGHT
BEGIN:STANDARD
TZOFFSETFROM:+0200
TZOFFSETTO:+0100
TZNAME:CET
DTSTART:20241027T010000
END:STANDARD
BEGIN:DAYLIGHT
TZOFFSETFROM:+0100
TZOFFSETTO:+0200
TZNAME:CEST
DTSTART:20250330T010000
END:DAYLIGHT
BEGIN:STANDARD
TZOFFSETFROM:+0200
TZOFFSETTO:+0100
TZNAME:CET
DTSTART:20251026T010000
END:STANDARD
BEGIN:DAYLIGHT
TZOFFSETFROM:+0100
TZOFFSETTO:+0200
TZNAME:CEST
DTSTART:20260329T010000
END:DAYLIGHT
BEGIN:STANDARD
TZOFFSETFROM:+0200
TZOFFSETTO:+0100
TZNAME:CET
DTSTART:20261025T010000
END:STANDARD
END:VTIMEZONE
BEGIN:VEVENT
DTSTART;TZID=Europe/Berlin:20250904T180000
DTEND;TZID=Europe/Berlin:20250904T200000
DTSTAMP:20260425T142650
CREATED:20221213T223029Z
LAST-MODIFIED:20250105T212343Z
UID:3004-1757008800-1757016000@stadtfeuerwehr-sehnde.de
SUMMARY:Sitzung des Rates der Stadt Sehnde
DESCRIPTION:
URL:https://stadtfeuerwehr-sehnde.de/event/ratssitzung-5/
CATEGORIES:Ratssitzung
END:VEVENT
BEGIN:VEVENT
DTSTART;VALUE=DATE:20250905
DTEND;VALUE=DATE:20250906
DTSTAMP:20260425T142650
CREATED:20241027T095932Z
LAST-MODIFIED:20241027T095932Z
UID:3950-1757030400-1757116799@stadtfeuerwehr-sehnde.de
SUMMARY:125-jähriges Jubiläum OF Wassel
DESCRIPTION:
URL:https://stadtfeuerwehr-sehnde.de/event/125-jaehriges-jubilaeum-of-wassel/
END:VEVENT
BEGIN:VEVENT
DTSTART;VALUE=DATE:20250919
DTEND;VALUE=DATE:20250921
DTSTAMP:20260425T142650
CREATED:20250523T074925Z
LAST-MODIFIED:20250523T074925Z
UID:4254-1758240000-1758412799@stadtfeuerwehr-sehnde.de
SUMMARY:Bereitschaftsübung RFB
DESCRIPTION:
URL:https://stadtfeuerwehr-sehnde.de/event/bereitschaftsuebung-rfb/
CATEGORIES:Regionsfeuerwehr
END:VEVENT
BEGIN:VEVENT
DTSTART;VALUE=DATE:20250921
DTEND;VALUE=DATE:20250922
DTSTAMP:20260425T142650
CREATED:20230214T194610Z
LAST-MODIFIED:20241231T000123Z
UID:3135-1758412800-1758499199@stadtfeuerwehr-sehnde.de
SUMMARY:Regionalentscheid Leistungsvergleich
DESCRIPTION:LK NOM
URL:https://stadtfeuerwehr-sehnde.de/event/regionalentscheid-leistungsvergleich/
LOCATION:Stadthagen
CATEGORIES:Wettkämpfe
END:VEVENT
END:VCALENDAR