BEGIN:VCALENDAR
VERSION:2.0
PRODID:-//Stadtfeuerwehr Sehnde - ECPv6.15.17.1//NONSGML v1.0//EN
CALSCALE:GREGORIAN
METHOD:PUBLISH
X-WR-CALNAME:Stadtfeuerwehr Sehnde
X-ORIGINAL-URL:https://stadtfeuerwehr-sehnde.de
X-WR-CALDESC:Veranstaltungen für Stadtfeuerwehr Sehnde
REFRESH-INTERVAL;VALUE=DURATION:PT1H
X-Robots-Tag:noindex
X-PUBLISHED-TTL:PT1H
BEGIN:VTIMEZONE
TZID:Europe/Berlin
BEGIN:DAYLIGHT
TZOFFSETFROM:+0100
TZOFFSETTO:+0200
TZNAME:CEST
DTSTART:20240331T010000
END:DAYLIGHT
BEGIN:STANDARD
TZOFFSETFROM:+0200
TZOFFSETTO:+0100
TZNAME:CET
DTSTART:20241027T010000
END:STANDARD
BEGIN:DAYLIGHT
TZOFFSETFROM:+0100
TZOFFSETTO:+0200
TZNAME:CEST
DTSTART:20250330T010000
END:DAYLIGHT
BEGIN:STANDARD
TZOFFSETFROM:+0200
TZOFFSETTO:+0100
TZNAME:CET
DTSTART:20251026T010000
END:STANDARD
BEGIN:DAYLIGHT
TZOFFSETFROM:+0100
TZOFFSETTO:+0200
TZNAME:CEST
DTSTART:20260329T010000
END:DAYLIGHT
BEGIN:STANDARD
TZOFFSETFROM:+0200
TZOFFSETTO:+0100
TZNAME:CET
DTSTART:20261025T010000
END:STANDARD
END:VTIMEZONE
BEGIN:VEVENT
DTSTART;VALUE=DATE:20250503
DTEND;VALUE=DATE:20250504
DTSTAMP:20260421T114437
CREATED:20241230T235225Z
LAST-MODIFIED:20241230T235225Z
UID:4040-1746230400-1746316799@stadtfeuerwehr-sehnde.de
SUMMARY:CTIF Stadtentscheid JF
DESCRIPTION:
URL:https://stadtfeuerwehr-sehnde.de/event/ctif-stadtentscheid-jf/
CATEGORIES:Jugendfeuerwehr,Wettkämpfe
END:VEVENT
BEGIN:VEVENT
DTSTART;VALUE=DATE:20250510
DTEND;VALUE=DATE:20250511
DTSTAMP:20260421T114437
CREATED:20240429T202217Z
LAST-MODIFIED:20240429T202217Z
UID:3691-1746835200-1746921599@stadtfeuerwehr-sehnde.de
SUMMARY:Jubiläum Jugendfeuerwehr Sehnde
DESCRIPTION:
URL:https://stadtfeuerwehr-sehnde.de/event/jubilaeum-jugendfeuerwehr-sehnde/
CATEGORIES:Jugendfeuerwehr
END:VEVENT
BEGIN:VEVENT
DTSTART;TZID=Europe/Berlin:20250522T180000
DTEND;TZID=Europe/Berlin:20250522T200000
DTSTAMP:20260421T114437
CREATED:20221213T222516Z
LAST-MODIFIED:20250105T212012Z
UID:2992-1747936800-1747944000@stadtfeuerwehr-sehnde.de
SUMMARY:Sitzung des Rates der Stadt Sehnde
DESCRIPTION:
URL:https://stadtfeuerwehr-sehnde.de/event/ratssitzung-3/
CATEGORIES:Ratssitzung
END:VEVENT
BEGIN:VEVENT
DTSTART;VALUE=DATE:20250530
DTEND;VALUE=DATE:20250531
DTSTAMP:20260421T114437
CREATED:20221213T222422Z
LAST-MODIFIED:20260206T054748Z
UID:2989-1748563200-1748649599@stadtfeuerwehr-sehnde.de
SUMMARY:Landesverbandsversammlung
DESCRIPTION:
URL:https://stadtfeuerwehr-sehnde.de/event/landesverbandsversammlung/
LOCATION:Wittmund
END:VEVENT
END:VCALENDAR